BEGIN:VCALENDAR
VERSION:2.0
PRODID:-//Volume.com//Volume.com//
BEGIN:VEVENT
SUMMARY:Member N5
DTSTART;TZID=America/New_York:20260425T003000
DTEND;TZID=America/New_York:20260425T010000
DESCRIPTION:📺 Where to Watch:\nhttps://volume.com/wookplus/\n\n🎟️ 
 Get Your Ticket:\nhttps://volume.com/t/2whyiE/\n\nShow Details:\nMember N5
END:VEVENT
END:VCALENDAR
