BEGIN:VCALENDAR
VERSION:2.0
PRODID:-//Volume.com//Volume.com//
BEGIN:VEVENT
SUMMARY:The Wild Life
DTSTART;TZID=US/Central:20260425T173000
DTEND;TZID=US/Central:20260425T193000
DESCRIPTION:📺 Where to Watch:\nhttps://volume.com/bitterend/\n\n🎟️
  Get Your Ticket:\nhttps://volume.com/t/40oZ99/\n\nShow Details:\nThe Wild
  Life / Sarah Hodd & The Drive / Kolker
END:VEVENT
BEGIN:VEVENT
SUMMARY:Sarah Hodd & The Drive
DTSTART;TZID=US/Central:20260425T193000
DTEND;TZID=US/Central:20260425T220000
DESCRIPTION:📺 Where to Watch:\nhttps://volume.com/bitterend/\n\n🎟️
  Get Your Ticket:\nhttps://volume.com/t/40oZ99/\n\nShow Details:\nThe Wild
  Life / Sarah Hodd & The Drive / Kolker
END:VEVENT
BEGIN:VEVENT
SUMMARY:Kolker
DTSTART;TZID=US/Central:20260425T220000
DTEND;TZID=US/Central:20260426T000000
DESCRIPTION:📺 Where to Watch:\nhttps://volume.com/bitterend/\n\n🎟️
  Get Your Ticket:\nhttps://volume.com/t/40oZ99/\n\nShow Details:\nThe Wild
  Life / Sarah Hodd & The Drive / Kolker
END:VEVENT
END:VCALENDAR
