BEGIN:VCALENDAR
VERSION:2.0
PRODID:-//Volume.com//Volume.com//
BEGIN:VEVENT
SUMMARY:PHD Band: Petty\, Hall & Oates\, Dan Triple Tribute
DTSTART;TZID=US/Central:20260423T190000
DTEND;TZID=US/Central:20260423T210000
DESCRIPTION:📺 Where to Watch:\nhttps://volume.com/crazyunclemikes/\n\n
 🎟️ Get Your Ticket:\nhttps://volume.com/t/4JLLuI/\n\nShow Details:\nP
 HD Band: Petty\, Hall & Oates\, Dan Triple Tribute
END:VEVENT
END:VCALENDAR
