BEGIN:VCALENDAR
VERSION:2.0
PRODID:-//Volume.com//Volume.com//
BEGIN:VEVENT
SUMMARY:The Youngers
DTSTART;TZID=US/Central:20260424T190000
DTEND;TZID=US/Central:20260424T203000
DESCRIPTION:📺 Where to Watch:\nhttps://volume.com/deeslounge/\n\n🎟
 ️ Get Your Ticket:\nhttps://volume.com/t/5fu37c/\n\nShow Details:\nThe Y
 oungers / Josh Morrison & His Seeing Eye Band
END:VEVENT
BEGIN:VEVENT
SUMMARY:Josh Morrison & His Seeing Eye Band
DTSTART;TZID=America/New_York:20260424T220000
DTEND;TZID=America/New_York:20260424T233000
DESCRIPTION:📺 Where to Watch:\nhttps://volume.com/deeslounge/\n\n🎟
 ️ Get Your Ticket:\nhttps://volume.com/t/5fu37c/\n\nShow Details:\nThe Y
 oungers / Josh Morrison & His Seeing Eye Band
END:VEVENT
END:VCALENDAR
