BEGIN:VCALENDAR
VERSION:2.0
PRODID:-//Volume.com//Volume.com//
BEGIN:VEVENT
SUMMARY:Obey Your Master - Metallica Tribute
DTSTART;TZID=US/Central:20260425T183000
DTEND;TZID=US/Central:20260425T203000
DESCRIPTION:📺 Where to Watch:\nhttps://volume.com/taffetamusic/\n\n🎟
 ️ Get Your Ticket:\nhttps://volume.com/t/7XpUaz/\n\nShow Details:\nObey 
 Your Master - Metallica Tribute
END:VEVENT
END:VCALENDAR
