BEGIN:VCALENDAR
VERSION:2.0
PRODID:-//Volume.com//Volume.com//
BEGIN:VEVENT
SUMMARY:Rooster Walk 16 Preview | St Paul / Daniel Donato / moe. / Kitchen
  Dwellers / + More
DTSTART;TZID=America/New_York:20260423T190000
DTEND;TZID=America/New_York:20260423T200000
DESCRIPTION:📺 Where to Watch:\nhttps://volume.com/wookplus/\n\n🎟️ 
 Get Your Ticket:\nhttps://volume.com/t/9T8u4A/\n\nShow Details:\nRooster W
 alk 16 returns to Pop’s Farm in Virginia this Memorial Day weekend\, May
  21–24\, 2026\, bringing four days of live music\, camping\, and communi
 ty. The lineup features St. Paul & The Broken Bones\, moe.\, Daniel Donato
 ’s Cosmic Country\, Kitchen Dwellers\, Keller Williams\, Maggie Rose\, D
 umpstaphunk\, Eggy\, John Brown’s Body\, and many more across multiple s
 tages. Expect a mix of jam\, bluegrass\, funk\, Americana\, and indie root
 s\, plus collaborations\, sit-ins\, and the laid-back festival vibe Rooste
 r Walk is known for. This preview covers the full lineup and what to expec
 t from RW16.
END:VEVENT
END:VCALENDAR
