BEGIN:VCALENDAR
VERSION:2.0
PRODID:-//Volume.com//Volume.com//
BEGIN:VEVENT
SUMMARY:Lords of Salem: A Tribute to Rob Zombie with Falling to Pieces: A 
 Tribute to Faith No More
DTSTART;TZID=US/Central:20260424T183000
DTEND;TZID=US/Central:20260424T203000
DESCRIPTION:📺 Where to Watch:\nhttps://volume.com/taffetamusic/\n\n🎟
 ️ Get Your Ticket:\nhttps://volume.com/t/Ds3Uqg/\n\nShow Details:\nLords
  of Salem: A Tribute to Rob Zombie with Falling to Pieces: A Tribute to Fa
 ith No More
END:VEVENT
END:VCALENDAR
