BEGIN:VCALENDAR
VERSION:2.0
PRODID:-//Volume.com//Volume.com//
BEGIN:VEVENT
SUMMARY:Loose Lips / Sam McCrary & the Mix
DTSTART;TZID=US/Central:20260424T183000
DTEND;TZID=US/Central:20260425T020000
DESCRIPTION:📺 Where to Watch:\nhttps://volume.com/bourbonstreetblues/\n
 \n🎟️ Get Your Ticket:\nhttps://volume.com/t/IwNsic/\n\nShow Details:\
 n6:30 pm – 9:30 pm CT — Loose Lips\n 10:00 pm – 2:00 am CT — Sam M
 cCrary & the Mix
END:VEVENT
END:VCALENDAR
