BEGIN:VCALENDAR
VERSION:2.0
PRODID:-//Volume.com//Volume.com//
BEGIN:VEVENT
SUMMARY:Happy Hour: Balatovis
DTSTART;TZID=US/Central:20260424T160000
DTEND;TZID=US/Central:20260424T193000
DESCRIPTION:📺 Where to Watch:\nhttps://volume.com/crazyunclemikes/\n\n
 🎟️ Get Your Ticket:\nhttps://volume.com/t/L2CEOV/\n\nShow Details:\nH
 appy Hour: Balatovis / Private Stock
END:VEVENT
BEGIN:VEVENT
SUMMARY:Private Stock
DTSTART;TZID=US/Central:20260424T193000
DTEND;TZID=US/Central:20260424T213000
DESCRIPTION:📺 Where to Watch:\nhttps://volume.com/crazyunclemikes/\n\n
 🎟️ Get Your Ticket:\nhttps://volume.com/t/L2CEOV/\n\nShow Details:\nH
 appy Hour: Balatovis / Private Stock
END:VEVENT
END:VCALENDAR
