BEGIN:VCALENDAR
VERSION:2.0
PRODID:-//Volume.com//Volume.com//
BEGIN:VEVENT
SUMMARY:Free Friday w/ The Collective - Feel-Good Hits\, Fired Up Live!
DTSTART;TZID=US/Central:20260424T220000
DTEND;TZID=US/Central:20260425T000000
DESCRIPTION:📺 Where to Watch:\nhttps://volume.com/theboardwalk/\n\n🎟
 ️ Get Your Ticket:\nhttps://volume.com/t/MvXUgt/\n\nShow Details:\nFree 
 Friday w/ The Collective - Feel-Good Hits\, Fired Up Live!
END:VEVENT
END:VCALENDAR
