BEGIN:VCALENDAR
VERSION:2.0
PRODID:-//Volume.com//Volume.com//
BEGIN:VEVENT
SUMMARY:Spottiswoode
DTSTART;TZID=US/Central:20260424T180000
DTEND;TZID=US/Central:20260424T193000
DESCRIPTION:📺 Where to Watch:\nhttps://volume.com/bitterend/\n\n🎟️
  Get Your Ticket:\nhttps://volume.com/t/Q5aHwQ/\n\nShow Details:\nSpottisw
 oode / Greg Humphreys & Friends / Dwayne Haggins
END:VEVENT
BEGIN:VEVENT
SUMMARY:Greg Humphreys & Friends
DTSTART;TZID=US/Central:20260424T193000
DTEND;TZID=US/Central:20260424T220000
DESCRIPTION:📺 Where to Watch:\nhttps://volume.com/bitterend/\n\n🎟️
  Get Your Ticket:\nhttps://volume.com/t/Q5aHwQ/\n\nShow Details:\nSpottisw
 oode / Greg Humphreys & Friends / Dwayne Haggins
END:VEVENT
BEGIN:VEVENT
SUMMARY:Dwayne Haggins
DTSTART;TZID=US/Central:20260424T220000
DTEND;TZID=US/Central:20260425T000000
DESCRIPTION:📺 Where to Watch:\nhttps://volume.com/bitterend/\n\n🎟️
  Get Your Ticket:\nhttps://volume.com/t/Q5aHwQ/\n\nShow Details:\nSpottisw
 oode / Greg Humphreys & Friends / Dwayne Haggins
END:VEVENT
END:VCALENDAR
