BEGIN:VCALENDAR
VERSION:2.0
PRODID:-//Volume.com//Volume.com//
BEGIN:VEVENT
SUMMARY:PHiSH The Sphere 04/24/26 Setlist and Recap\, Las Vegas N5
DTSTART;TZID=America/New_York:20260425T023000
DTEND;TZID=America/New_York:20260425T030000
DESCRIPTION:📺 Where to Watch:\nhttps://volume.com/wookplus/\n\n🎟️ 
 Get Your Ticket:\nhttps://volume.com/t/TlaYci/\n\nShow Details:\nPHiSH The
  Sphere 04/24/26 Setlist and Recap\, Las Vegas N5
END:VEVENT
END:VCALENDAR
