BEGIN:VCALENDAR
VERSION:2.0
PRODID:-//Volume.com//Volume.com//
BEGIN:VEVENT
SUMMARY:Happy Hour: Michael Bongo & Dave
DTSTART;TZID=US/Central:20260425T160000
DTEND;TZID=US/Central:20260425T193000
DESCRIPTION:📺 Where to Watch:\nhttps://volume.com/crazyunclemikes/\n\n
 🎟️ Get Your Ticket:\nhttps://volume.com/t/WyH48v/\n\nShow Details:\nH
 appy Hour: Michael Bongo & Dave / GODSMACKED – An Evening of Godsmack & 
 Tool
END:VEVENT
BEGIN:VEVENT
SUMMARY:GODSMACKED – An Evening of Godsmack & Tool
DTSTART;TZID=US/Central:20260425T193000
DTEND;TZID=US/Central:20260425T213000
DESCRIPTION:📺 Where to Watch:\nhttps://volume.com/crazyunclemikes/\n\n
 🎟️ Get Your Ticket:\nhttps://volume.com/t/WyH48v/\n\nShow Details:\nH
 appy Hour: Michael Bongo & Dave / GODSMACKED – An Evening of Godsmack & 
 Tool
END:VEVENT
END:VCALENDAR
