BEGIN:VCALENDAR
VERSION:2.0
PRODID:-//Volume.com//Volume.com//
BEGIN:VEVENT
SUMMARY:DJ LV
DTSTART;TZID=America/New_York:20260425T200000
DTEND;TZID=America/New_York:20260425T220000
DESCRIPTION:📺 Where to Watch:\nhttps://volume.com/butecoatl/\n\n🎟️
  Get Your Ticket:\nhttps://volume.com/t/g1CVdM/\n\nShow Details:\nDJ LV
END:VEVENT
END:VCALENDAR
