BEGIN:VCALENDAR
VERSION:2.0
PRODID:-//Volume.com//Volume.com//
BEGIN:VEVENT
SUMMARY:CASH LIVE - The Music Of Johnny Cash
DTSTART;TZID=US/Central:20260424T180000
DTEND;TZID=US/Central:20260424T200000
DESCRIPTION:📺 Where to Watch:\nhttps://volume.com/thecazbuffalo/\n\n
 🎟️ Get Your Ticket:\nhttps://volume.com/t/ifxnvT/\n\nShow Details:\nC
 ASH LIVE - The Music Of Johnny Cash
END:VEVENT
END:VCALENDAR
