BEGIN:VCALENDAR
VERSION:2.0
PRODID:-//Volume.com//Volume.com//
BEGIN:VEVENT
SUMMARY:Charlie Treat
DTSTART;TZID=America/New_York:20260423T200000
DTEND;TZID=America/New_York:20260423T204500
DESCRIPTION:📺 Where to Watch:\nhttps://volume.com/deeslounge/\n\n🎟
 ️ Get Your Ticket:\nhttps://volume.com/t/mTTkIS/\n\nShow Details:\nCharl
 ie Treat / George Strait Tribute Night / ZG Smith
END:VEVENT
BEGIN:VEVENT
SUMMARY:ZG Smith
DTSTART;TZID=US/Eastern:20260423T210000
DTEND;TZID=US/Eastern:20260423T214500
DESCRIPTION:📺 Where to Watch:\nhttps://volume.com/deeslounge/\n\n🎟
 ️ Get Your Ticket:\nhttps://volume.com/t/mTTkIS/\n\nShow Details:\nCharl
 ie Treat / George Strait Tribute Night / ZG Smith
END:VEVENT
BEGIN:VEVENT
SUMMARY:George Strait Tribute Night
DTSTART;TZID=US/Eastern:20260423T220000
DTEND;TZID=US/Eastern:20260423T230000
DESCRIPTION:📺 Where to Watch:\nhttps://volume.com/deeslounge/\n\n🎟
 ️ Get Your Ticket:\nhttps://volume.com/t/mTTkIS/\n\nShow Details:\nCharl
 ie Treat / George Strait Tribute Night / ZG Smith
END:VEVENT
END:VCALENDAR
