BEGIN:VCALENDAR
VERSION:2.0
PRODID:-//Volume.com//Volume.com//
BEGIN:VEVENT
SUMMARY:Kevin Scott Q&A
DTSTART;TZID=America/Los_Angeles:20260426T110000
DTEND;TZID=America/Los_Angeles:20260426T130000
DESCRIPTION:📺 Where to Watch:\nhttps://volume.com/kevinscott/\n\n🎟
 ️ Get Your Ticket:\nhttps://volume.com/t/rZwNt4/\n\nShow Details:\nChat 
 with Kevin Scott live in his very first community Q&A!
END:VEVENT
END:VCALENDAR
