BEGIN:VCALENDAR
VERSION:2.0
PRODID:-//Volume.com//Volume.com//
BEGIN:VEVENT
SUMMARY:BACKSTAGE NASHVILLE! DAYTIME HIT SONGWRITERS SHOW featuring Jim Co
 llins \, Don Sampson \, Johnny Clawson & Ray Stephenson + Maura Streppa
DTSTART;TZID=US/Mountain:20260425T110000
DTEND;TZID=US/Mountain:20260425T140000
DESCRIPTION:📺 Where to Watch:\nhttps://volume.com/3rdandlindsley/\n\n
 🎟️ Get Your Ticket:\nhttps://volume.com/t/sAg1VR/\n\nShow Details:\nB
 ACKSTAGE NASHVILLE! DAYTIME HIT SONGWRITERS SHOW featuring Jim Collins \, 
 Don Sampson \, Johnny Clawson & Ray Stephenson + Maura Streppa
END:VEVENT
END:VCALENDAR
