BEGIN:VCALENDAR
VERSION:2.0
PRODID:-//Volume.com//Volume.com//
BEGIN:VEVENT
SUMMARY:Matt Mason Livestream from Ophelia's
DTSTART;TZID=US/Mountain:20260426T200000
DTEND;TZID=US/Mountain:20260426T220000
DESCRIPTION:📺 Where to Watch:\nhttps://volume.com/ophelias/\n\n🎟️ 
 Get Your Ticket:\nhttps://volume.com/t/uLBTwR/\n\nShow Details:\nDon't mis
 s Matt Mason streaming live from Denver\, CO on Volume.com.
END:VEVENT
END:VCALENDAR
