BEGIN:VCALENDAR
VERSION:2.0
PRODID:-//Volume.com//Volume.com//
BEGIN:VEVENT
SUMMARY:Chickie Wah Wah Presents Sansone\, Fohl and Osborne
DTSTART;TZID=US/Mountain:20260428T190000
DTEND;TZID=US/Mountain:20260428T210000
DESCRIPTION:📺 Where to Watch:\nhttps://volume.com/andersosborne/\n\n
 🎟️ Get Your Ticket:\nhttps://volume.com/t/up607W/\n\nShow Details:\nJ
 ohnny Sansone\, John Fohl and Anders Osborne live from Chickie Wah Wah!
END:VEVENT
END:VCALENDAR
