BEGIN:VCALENDAR
VERSION:2.0
PRODID:-//Volume.com//Volume.com//
BEGIN:VEVENT
SUMMARY:Ozomatli Livestream from Denver\, CO
DTSTART;TZID=US/Mountain:20260430T210000
DTEND;TZID=US/Mountain:20260430T230000
DESCRIPTION:📺 Where to Watch:\nhttps://volume.com/ophelias/\n\n🎟️ 
 Get Your Ticket:\nhttps://volume.com/t/v7P4jq/\n\nShow Details:\nJoin us f
 or Ozomatli's free livestream from Ophelia's on Volume.com
END:VEVENT
END:VCALENDAR
